BEGIN:VCALENDAR
VERSION:2.0
PRODID:-//Ligue Grand Est de natation - ECPv6.15.20//NONSGML v1.0//EN
CALSCALE:GREGORIAN
METHOD:PUBLISH
X-WR-CALNAME:Ligue Grand Est de natation
X-ORIGINAL-URL:https://lge-natation.fr
X-WR-CALDESC:Évènements pour Ligue Grand Est de natation
REFRESH-INTERVAL;VALUE=DURATION:PT1H
X-Robots-Tag:noindex
X-PUBLISHED-TTL:PT1H
BEGIN:VTIMEZONE
TZID:Europe/Paris
BEGIN:DAYLIGHT
TZOFFSETFROM:+0100
TZOFFSETTO:+0200
TZNAME:CEST
DTSTART:20240331T010000
END:DAYLIGHT
BEGIN:STANDARD
TZOFFSETFROM:+0200
TZOFFSETTO:+0100
TZNAME:CET
DTSTART:20241027T010000
END:STANDARD
BEGIN:DAYLIGHT
TZOFFSETFROM:+0100
TZOFFSETTO:+0200
TZNAME:CEST
DTSTART:20250330T010000
END:DAYLIGHT
BEGIN:STANDARD
TZOFFSETFROM:+0200
TZOFFSETTO:+0100
TZNAME:CET
DTSTART:20251026T010000
END:STANDARD
BEGIN:DAYLIGHT
TZOFFSETFROM:+0100
TZOFFSETTO:+0200
TZNAME:CEST
DTSTART:20260329T010000
END:DAYLIGHT
BEGIN:STANDARD
TZOFFSETFROM:+0200
TZOFFSETTO:+0100
TZNAME:CET
DTSTART:20261025T010000
END:STANDARD
END:VTIMEZONE
BEGIN:VEVENT
DTSTART;VALUE=DATE:20250503
DTEND;VALUE=DATE:20250505
DTSTAMP:20260424T123240
CREATED:20241206T121047Z
LAST-MODIFIED:20241206T121047Z
UID:7066-1746230400-1746403199@lge-natation.fr
SUMMARY:CHAMPIONNATS AVENIRS/POUSSINS REGIONAUX
DESCRIPTION:Plus d’infos…
URL:https://lge-natation.fr/event/championnats-avenirs-poussins-regionaux/
LOCATION:COLMAR\, 15 rue Robert Schuman\, Colmar\, 68000\, France
CATEGORIES:Natation Artistique
END:VEVENT
BEGIN:VEVENT
DTSTART;VALUE=DATE:20250508
DTEND;VALUE=DATE:20250509
DTSTAMP:20260424T123240
CREATED:20250127T082537Z
LAST-MODIFIED:20250127T082537Z
UID:7163-1746662400-1746748799@lge-natation.fr
SUMMARY:COUPE DE LA VILLE DE VERDUN
DESCRIPTION:Plus d’infos…
URL:https://lge-natation.fr/event/coupe-de-la-ville-de-verdun-2/
LOCATION:SA Verdun\, 7 rue du Huit Mai 1945\, Verdun\, 55100\, France
CATEGORIES:Natation Course
ATTACH;FMTTYPE=image/png:https://lge-natation.fr/wp-content/uploads/2025/01/Verdun.png
END:VEVENT
BEGIN:VEVENT
DTSTART;VALUE=DATE:20250517
DTEND;VALUE=DATE:20250519
DTSTAMP:20260424T123240
CREATED:20241206T121424Z
LAST-MODIFIED:20250509T085323Z
UID:7072-1747440000-1747612799@lge-natation.fr
SUMMARY:CHAMPIONNATS CHALLENGE REGIONAUX
DESCRIPTION:Plus d’infos…
URL:https://lge-natation.fr/event/championnats-challenge-regionaux/
LOCATION:PONT-À-MOUSSON\, Chemin des Foins\, Pont-à-Mousson\, 54700\, France
CATEGORIES:Natation Artistique
ATTACH;FMTTYPE=image/jpeg:https://lge-natation.fr/wp-content/uploads/2025/05/REGIONAUX-NA.jpg
END:VEVENT
BEGIN:VEVENT
DTSTART;VALUE=DATE:20250520
DTEND;VALUE=DATE:20250526
DTSTAMP:20260424T123240
CREATED:20241206T120728Z
LAST-MODIFIED:20241206T120728Z
UID:7060-1747699200-1748217599@lge-natation.fr
SUMMARY:CHAMPIONNATS JEUNES N1 / ELITES
DESCRIPTION:Plus d’infos…
URL:https://lge-natation.fr/event/championnats-jeunes-n1-elites/
CATEGORIES:Natation Artistique
END:VEVENT
BEGIN:VEVENT
DTSTART;VALUE=DATE:20250525
DTEND;VALUE=DATE:20250526
DTSTAMP:20260424T123240
CREATED:20241206T081752Z
LAST-MODIFIED:20250513T113153Z
UID:6997-1748131200-1748217599@lge-natation.fr
SUMMARY:COUPE DE FRANCE DES DÉPARTEMENTS – PHASE QUALIFICATIVE (25M)
DESCRIPTION:Plus d’infos…
URL:https://lge-natation.fr/event/coupe-de-france-des-departements-phase-qualificative-25m-2/
LOCATION:LANEUVEVILLE\, LANEUVEVILLE
CATEGORIES:Natation Course
ATTACH;FMTTYPE=image/png:https://lge-natation.fr/wp-content/uploads/2025/05/Capture-decran-2025-05-13-a-13.30.40.png
END:VEVENT
BEGIN:VEVENT
DTSTART;VALUE=DATE:20250525
DTEND;VALUE=DATE:20250526
DTSTAMP:20260424T123240
CREATED:20250423T142215Z
LAST-MODIFIED:20250423T142215Z
UID:7419-1748131200-1748217599@lge-natation.fr
SUMMARY:FINALE U12
DESCRIPTION:Plus d’infos…
URL:https://lge-natation.fr/event/finale-u12/
LOCATION:NANCY
CATEGORIES:Water-Polo
END:VEVENT
BEGIN:VEVENT
DTSTART;VALUE=DATE:20250531
DTEND;VALUE=DATE:20250602
DTSTAMP:20260424T123240
CREATED:20241206T121153Z
LAST-MODIFIED:20241206T121153Z
UID:7068-1748649600-1748822399@lge-natation.fr
SUMMARY:CHAMPIONNATS AVENIS/POUSSINS N2
DESCRIPTION:Plus d’infos…
URL:https://lge-natation.fr/event/championnats-avenis-poussins-n2/
LOCATION:Strasbourg\, Piscine de la Kibitzenau\, 1a rue de la Kibitzenau\, Strasbourg\, 67100\, France
CATEGORIES:Natation Artistique
END:VEVENT
END:VCALENDAR