BEGIN:VCALENDAR
VERSION:2.0
PRODID:-//Ligue Grand Est de natation - ECPv6.15.20//NONSGML v1.0//EN
CALSCALE:GREGORIAN
METHOD:PUBLISH
X-WR-CALNAME:Ligue Grand Est de natation
X-ORIGINAL-URL:https://lge-natation.fr
X-WR-CALDESC:Évènements pour Ligue Grand Est de natation
REFRESH-INTERVAL;VALUE=DURATION:PT1H
X-Robots-Tag:noindex
X-PUBLISHED-TTL:PT1H
BEGIN:VTIMEZONE
TZID:Europe/Paris
BEGIN:DAYLIGHT
TZOFFSETFROM:+0100
TZOFFSETTO:+0200
TZNAME:CEST
DTSTART:20240331T010000
END:DAYLIGHT
BEGIN:STANDARD
TZOFFSETFROM:+0200
TZOFFSETTO:+0100
TZNAME:CET
DTSTART:20241027T010000
END:STANDARD
BEGIN:DAYLIGHT
TZOFFSETFROM:+0100
TZOFFSETTO:+0200
TZNAME:CEST
DTSTART:20250330T010000
END:DAYLIGHT
BEGIN:STANDARD
TZOFFSETFROM:+0200
TZOFFSETTO:+0100
TZNAME:CET
DTSTART:20251026T010000
END:STANDARD
BEGIN:DAYLIGHT
TZOFFSETFROM:+0100
TZOFFSETTO:+0200
TZNAME:CEST
DTSTART:20260329T010000
END:DAYLIGHT
BEGIN:STANDARD
TZOFFSETFROM:+0200
TZOFFSETTO:+0100
TZNAME:CET
DTSTART:20261025T010000
END:STANDARD
END:VTIMEZONE
BEGIN:VEVENT
DTSTART;VALUE=DATE:20250531
DTEND;VALUE=DATE:20250602
DTSTAMP:20260424T135912
CREATED:20241206T121153Z
LAST-MODIFIED:20241206T121153Z
UID:7068-1748649600-1748822399@lge-natation.fr
SUMMARY:CHAMPIONNATS AVENIS/POUSSINS N2
DESCRIPTION:Plus d’infos…
URL:https://lge-natation.fr/event/championnats-avenis-poussins-n2/
LOCATION:Strasbourg\, Piscine de la Kibitzenau\, 1a rue de la Kibitzenau\, Strasbourg\, 67100\, France
CATEGORIES:Natation Artistique
END:VEVENT
BEGIN:VEVENT
DTSTART;VALUE=DATE:20250601
DTEND;VALUE=DATE:20250602
DTSTAMP:20260424T135912
CREATED:20250127T102322Z
LAST-MODIFIED:20250127T102322Z
UID:7167-1748736000-1748822399@lge-natation.fr
SUMMARY:CHAMPIONNAT D'ALSACE MAITRES
DESCRIPTION:
URL:https://lge-natation.fr/event/championnat-dalsace-maitres/
LOCATION:BETSCHDORF
CATEGORIES:Maitres
END:VEVENT
END:VCALENDAR